View In:
ArcGIS JavaScript
ArcGIS Online Map Viewer
ArcGIS Earth
ArcGIS Pro
Service Description:
Map Name: Sampson_County_Fire_Basemap
Legend
All Layers and Tables
Dynamic Legend
Dynamic All Layers
Layers:
Description:
Copyright Text:
Spatial Reference:
102719
(2264)
Single Fused Map Cache: true
Tile Info:
- Height: 256
- Width: 256
- DPI: 96
-
Levels of Detail: 19
-
Level ID: 0
[ Start Tile, End Tile ]
- Resolution: 967512.1655745509
- Scale: 1.1145762438943706E9
-
Level ID: 1
[ Start Tile, End Tile ]
- Resolution: 483756.08278727543
- Scale: 5.572881219471853E8
-
Level ID: 2
[ Start Tile, End Tile ]
- Resolution: 241878.04139363772
- Scale: 2.7864406097359264E8
-
Level ID: 3
[ Start Tile, End Tile ]
- Resolution: 120939.02069681886
- Scale: 1.3932203048679632E8
-
Level ID: 4
[ Start Tile, End Tile ]
- Resolution: 60469.51034840943
- Scale: 6.966101524339816E7
-
Level ID: 5
[ Start Tile, End Tile ]
- Resolution: 30234.755174204714
- Scale: 3.483050762169908E7
-
Level ID: 6
[ Start Tile, End Tile ]
- Resolution: 15117.377587102357
- Scale: 1.741525381084954E7
-
Level ID: 7
[ Start Tile, End Tile ]
- Resolution: 7558.688793551179
- Scale: 8707626.90542477
-
Level ID: 8
[ Start Tile, End Tile ]
- Resolution: 3779.3443967755893
- Scale: 4353813.452712385
-
Level ID: 9
[ Start Tile, End Tile ]
- Resolution: 1889.6721983877947
- Scale: 2176906.7263561925
-
Level ID: 10
[ Start Tile, End Tile ]
- Resolution: 944.8360991938973
- Scale: 1088453.3631780962
-
Level ID: 11
[ Start Tile, End Tile ]
- Resolution: 472.41804959694866
- Scale: 544226.6815890481
-
Level ID: 12
[ Start Tile, End Tile ]
- Resolution: 236.20902479847433
- Scale: 272113.34079452406
-
Level ID: 13
[ Start Tile, End Tile ]
- Resolution: 118.10451239923717
- Scale: 136056.67039726203
-
Level ID: 14
[ Start Tile, End Tile ]
- Resolution: 59.05225619961858
- Scale: 68028.33519863102
-
Level ID: 15
[ Start Tile, End Tile ]
- Resolution: 29.52612809980929
- Scale: 34014.16759931551
-
Level ID: 16
[ Start Tile, End Tile ]
- Resolution: 14.763064049904646
- Scale: 17007.083799657754
-
Level ID: 17
[ Start Tile, End Tile ]
- Resolution: 7.381532024952323
- Scale: 8503.541899828877
-
Level ID: 18
[ Start Tile, End Tile ]
- Resolution: 3.6907660124761614
- Scale: 4251.7709499144385
- Format: PNG
- Compression Quality: 0.0
- Origin: X: -1.2184155719092584E8
Y: 1.0696902451173094E8
- Spatial Reference: 102719
(2264)
Storage Info:
- Storage Format: esriMapCacheStorageModeCompactV2
- Packet Size: 128
Initial Extent:
XMin: 1990500.3905026787
YMin: 278449.1578124268
XMax: 2367914.134493152
YMax: 577492.8347447693
Spatial Reference: 102719
(2264)
Full Extent:
XMin: 2098029.848975256
YMin: 293258.540973261
XMax: 2266432.860921845
YMax: 570407.5332620889
Spatial Reference: 102719
(2264)
Units: esriFeet
Supported Image Format Types: PNG32,PNG24,PNG,JPG,DIB,TIFF,EMF,PS,PDF,GIF,SVG,SVGZ,BMP
Document Info:
Title: Map
Author:
Comments:
Subject:
Category:
Keywords: Sampson County,Fire Departments,Fire Districts,Base Map
AntialiasingMode: Fast
TextAntialiasingMode: Force
Supports Dynamic Layers: true
MaxRecordCount: 2000
MaxImageHeight: 4096
MaxImageWidth: 4096
Supported Query Formats: JSON, geoJSON, PBF
Supports Query Data Elements: true
Min Scale: 4353813.452712385
Max Scale: 4251.7709499144385
Min LOD: 8
Max LOD: 18
Supports Datum Transformation: true
Child Resources:
Info
Dynamic Layer
Supported Operations:
Export Map
Identify
QueryLegends
QueryDomains
Find
Return Updates